Workbook

Sheet Beräkning TjP och Yarb
A1: #VALUE! | B1: Beräkningsmall för självkostnad tid.
A2: Förklaring till denna mall finns i Bilaga 1.1 Beräkningsprinciper för självkostnad tid
A3: Datum | B3: 46251 | D3: Anställd - för och efternamn | E3: Anders Andersson
A4: Projekt | B4: Ny entreprenad | D4: Roll i projektet | E4: Projektchef | M4: 2026
A5: Beställare | B5: Kommunen | D5: Alla celler i dokumentet är låsta, förutom | E5: gula fält som ska fyllas i av företaget | L5: Inkomstbasbelopp (IBB) | M5: 83400
A6: Företag | B6: Byggaren AB | D6: Turkosa fält justeras årligen den 1 april av beställaren | L6: Prisbasbelopp (PBB) | M6: 59200
A7: Org nr | B7: xxxxxx-xxxx
L8: Collectum | M8: Månadsbelopp | N8: År
B9: Tjänstepersoner | E9: Självkostnad arbetad timme Tj person | F9: =+E24 -> 590.59642 | H9: Tjänstepersoner | L9: Övre gräns Collectum Ålderspensionspremie | M9: =+N9/12 -> 52125 | N9: =M5*7.5 -> 625500
L10: ITP Sjukpension övre gräns | M10: =+N10/12 -> 49333.333 | N10: =M19*12 -> 592000
A11: Ingår i självkostnads- beräknng | B11: Kostnader enligt lag och kollektivavtal för anställd: | C11: Månadskostnad | D11: Årskostnad | E11: Timkostnad | F11: % (Ej påslag) | H11: Beräkningsförutsättningar (lag, kollektivavtal och branschvärden) | I11: Dagar | J11: % | L11: 7,5 IBB undre gräns premiebefrielseförsäkring | M11: =+N11/12 -> 52125 | N11: =M5*7.5 -> 625500
A12: Ja | B12: Lön | C12: 55000 | D12: =+C12*12 -> 660000 | E12: =SUMIFS(C12,A12,"Ja")/$I$22 -> 406.50407 | F12: 1 | H12: Vardagar på ett år | I12: 261 | J12: =+I12/$I$12 -> 1 | L12: ITP Sjukpens undre gräns | M12: =+N12/12 -> 49333.333 | N12: =12*M19 -> 592000
A13: Ja | B13: Semestertillägg | C13: =(C12*F13)*I14/12 -> 1026.6667 | D13: =+C13*12 -> 12320 | E13: =SUMIFS(C13,A13,"Ja")/$I$22 -> 7.5880759 | F13: =+J13 -> 0.008 | H13: Semestertillägg | J13: 0.008 | O13: ITP grundande lön
A14: Ja | B14: Sociala avgifter | C14: =SUM(C12:C13)*C28 -> 17603.579 | D14: =+C14*12 -> 211242.94 | E14: =SUMIFS(C14,A14,"Ja")/$I$22 -> 130.10775 | F14: =+C28 -> 0.3142 | H14: Semesterdagar för anställd (25-30 dgr) | I14: 28 | J14: =+I14/$I$12 -> 0.10727969 | O14: =(C12*12.2)/12 -> 55916.667 | P14: =O14*12 -> 671000
A15: Ja | B15: ITP 1 lön 4,5 % | C15: =IF(C17=0,IF(SUM(C12:C13)<=M16,SUM(C12:C13)*N16,M16*N16)+IF(SUM(C12:C13)<=M18,SUM(C12:C13)*N18,M18*N18)+IF(SUM(C12:C13)<=M20,SUM(C12:C13)*N20,M20*N20),0) -> 2425.5813 | D15: =+C15*12 -> 29106.975 | E15: =SUMIFS(C15,A15,"Ja")/$I$22 -> 17.92743 | F15: =+N16+N18+N20+N22 -> 0.04655 | H15: Arbetstidsförkortning | I15: 6 | J15: =+I15/$I$12 -> 0.022988506 | L15: Collectum ITP | M15: Månadsbelopp | N15: % från Collectum ITP1 | O15: % från Collectum ITP2 | P15: Summa år
A16: Ja | B16: ITP 1 lön 30 % | C16: =MAX(0,IF(C17,0,(SUM(C12:C13)-M17)*N17+(SUM(C12:C13)-M19)*N19+(SUM(C12:C13)-M21)*N21)) -> 1232.9374 | D16: =+C16*12 -> 14795.249 | E16: =SUMIFS(C16,A16,"Ja")/$I$22 -> 9.1126192 | F16: =+N17+N19+N21+N23 -> 0.31523 | H16: Helgdagar | I16: 11 | J16: =+I16/$I$12 -> 0.042145594 | L16: ITP Ålderspension upp till 7,5 inkomstbasbelopp fördelat per månad | M16: =M5*7.5/12 -> 52125 | N16: 0.045 | O16: Individuell
A17: Ja | B17: Individuell ITP 2 (Ifylls om denna är aktuell för anställd) | C17: 0 | D17: =+C17*12 -> 0 | E17: =SUMIFS(C17,A17,"Ja")/$I$22 -> 0 | F17: =+C17/C12 -> 0 | H17: Sjuklön | I17: =+J17*I12 -> 7.83 | J17: 0.03 | L17: ITP Ålderspension över 7,5 inkomstbasbelopp fördelat per månad | M17: =M5*7.5/12 -> 52125 | N17: 0.3 | O17: Individuell
H18: Föräldralön och sjuklön över 14 dagar | I18: =+I12*$J$18 -> 5.22 | J18: 0.02 | L18: ITP Sjukpension upp till 7,5 inkomstbasbelopp fördelat per månad | M18: =M6*10/12 -> 49333.333 | N18: 0.0003 | O18: 0.0003 | P18: =M18*12 -> 592000
A19: Ja | B19: Premie till ITPK | C19: =+M26 -> 0 | D19: =+C19*12 -> 0 | E19: =SUMIFS(C19,A19,"Ja")/$I$22 -> 0 | F19: =+C19/C12 -> 0 | H19: Summering frånvarodagar | I19: =SUM(I14:I18) -> 58.05 | J19: =+I19/$I$12 -> 0.22241379 | L19: ITP Sjukpension över 7,5 inkomstbasbelopp fördelat per månad | M19: =M6*10/12 -> 49333.333 | N19: 0.00108 | O19: 0.001008 | P19: =M19*12 -> 592000
A20: Ja | B20: Deltidspensionspremie per avtal | C20: =+M25+M24 -> 1120.5333 | D20: =+C20*12 -> 13446.4 | E20: =SUMIFS(C20,A20,"Ja")/$I$22 -> 8.2818428 | F20: =+C20/C12 -> 0.020373333 | H20: Totalt arbetande dagar | I20: =+I12-I19 -> 202.95 | J20: =+I20/$I$12 -> 0.77758621 | L20: ITP Premiebefrielseföräkring upp till 7,5 inkomstbasbelopp fördelat per månad | M20: =M5*7.5/12 -> 52125 | N20: 0.00125 | O20: 0.00145 | P20: =M20*12 -> 625500
A21: Ja | B21: Löneskatt pension | C21: {=SUM(C15:C20*C27)} -> 1159.398 | D21: =+C21*12 -> 13912.776 | E21: =SUMIFS(C21,A21,"Ja")/$I$22 -> 8.569091 | F21: =+C27 -> 0.2426 | H21: Arbetande dagar i snitt per månad | I21: =+I20/12 -> 16.9125 | L21: ITP Premiebefrielseföräkring över 7,5 inkomstbasbelopp fördelat per månad | M21: =M5*7.5/12 -> 52125 | N21: 0.01415 | O21: 0.0125 | P21: =M21*12 -> 625500
A22: Ja | B22: Trygghetsrådet (TRR) Fora | C22: =+M27 -> 319 | D22: =+C22*12 -> 3828 | E22: =SUMIFS(C22,A22,"Ja")/$I$22 -> 2.3577236 | F22: =+N27 -> 0.0058 | H22: Timmar i snitt per månad | I22: =+I21*8 -> 135.3 | L22: ITP utjämningspremie upp till 7,5 inkomstbasbelopp fördelat per månad | M22: =M5*7.5/12 -> 52125 | O22: 0.0055 | P22: =M22*12 -> 625500
A23: Ja | B23: Tjänstegrupplivförsäkring (TGL) | C23: =+M28 -> 20 | D23: =+C23*12 -> 240 | E23: =SUMIFS(C23,A23,"Ja")/$I$22 -> 0.14781966 | F23: =+C23/C12 -> 0.00036363636 | L23: ITP utjämningspremie över 7,5 inkomstbasbelopp fördelat per månad | M23: =M5*7.5/12 -> 52125 | O23: 0.0055 | P23: =M23*12 -> 625500
B24: Summa | C24: =SUM(C12:C23) -> 79907.695 | D24: =SUM(D12:D23) -> 958892.34 | E24: =SUM(E12:E23) -> 590.59642 | L24: Deltidspensionspremie ITP1 + kompl premier | M24: =IF(C17<>0,0,MAX(0,$N$24*(SUM(C12:C13)))) -> 1120.5333 | N24: 0.02 | O24: 0.02
L25: Deltidspensionspremie ITP2 inkl pbf kompl premier | M25: =IF(M24=0,N25*O14,0) -> 0 | N25: 0.02 | O25: 0.02
B26: Lagstadgade procentbelopp | L26: ITPK ITP2 | M26: =IF(M24=0,(MAX(0,N26*(O14)-C15)),0) -> 0 | N26: 0.02 | O26: 0.02
B27: Löneskatt | C27: 0.2426 | L27: Fora Trygghetsrådet (TRR) + Arbetsskadeförsäkring (TFA) | M27: =N27*$C$12 -> 319 | N27: 0.0058
B28: Sociala avgifter | C28: 0.3142 | L28: Tjänstegrupplivförsäkring (TGL) | M28: 20
B29: Lagstadgade procentbelopp
B31: Yrkesarbetare | E31: Självkostnad arbetad timme Ya | F31: =+E56 -> 500.40446 | H31: Yrkesarbetare
A33: Ingår i självkostnadsberäkning | B33: Kostnader enligt lag och kollektivavtal för anställd: | C33: Månadskostnad | D33: Årslön | E33: Timlön | F33: % (Ej Påslag) | H33: Beräkningsförutsättningar (lag, kollektivavtal och branschvärden) | I33: Dagar | J33: %
A35: Ja | B35: Lön (inkl ev ackordsuppgörelse) | C35: =SUMIFS(E35,A35,"Ja")*8*$I$35/12 -> 48208.44 | D35: =+C35*12 -> 578501.28 | E35: 277.06 | F35: 1 | H35: Vardagar på ett år | I35: 261 | J35: =+I35/$I$35 -> 1 | K35: =+'Beräkning TjP och Yarb'!$E$35*I35*8 -> 578501.28
A36: Nej | B36: Belopp för ackordsuppgörelse (snitt) ingående i summan E35 | E36: 42.06 | F36: =IF(A36="Ja",E36/E35,0) -> 0 | H36: Semester (lag & kollektivavtal 25-30 dgr) | I36: 25 | J36: 0.13 | K36: =+K35*J36 -> 75205.166
A37: Ja | B37: Semesterkostnad utöver lön | C37: =SUMIFS(E37,A37,"Ja")*I43 -> 1649.4305 | D37: =+C37*12 -> 19793.166 | E37: =('Beräkning TjP och Yarb'!J47*'Beräkning TjP och Yarb'!I36)/12/I43 -> 11.750313 | F37: =+'Beräkning TjP och Yarb'!J36 -> 0.13 | H37: Arbetstidsförkortning | I37: 5 | J37: =+I37/$I$35 -> 0.019157088
A38: Ja | B38: Sociala avgifter | C38: =SUM(C35:C37)*F38 -> 15665.343 | D38: =D35*F38 -> 181765.1 | E38: =+C38/'Beräkning TjP och Yarb'!$I$43 -> 111.59771 | F38: =+C28 -> 0.3142 | H38: Helgdagar | I38: 10 | J38: =+I38/$I$35 -> 0.038314176
B39: Tot | C39: =SUM(C35:C38) -> 65523.213 | D39: =SUM(D35:D38) -> 780059.55 | E39: =+C39/I43 -> 466.77821 | F39: =SUM(F35:F38) -> 1.4442 | H39: Sjuklön | I39: =+J39*I35 -> 10.44 | J39: 0.04
A40: Ja | B40: Omställningsförsäkring | C40: =IF(LOWER(A40)="ja",SUM($C$35:$C$37)*F40,0) -> 244.30357 | D40: =+C40*12 -> 2931.6428 | E40: =+C40/'Beräkning TjP och Yarb'!$I$43 -> 1.7403844 | F40: 0.0049 | H40: Summering frånvarodagar | I40: =+I35-I41 -> 50.44 | J40: =+I40/$I$35 -> 0.1932567
A41: Ja | B41: AGB avgångsbidrag | C41: =IF(LOWER(A41)="ja",SUM($C$35:$C$37)*F41,0) -> 0 | D41: =+C41*12 -> 0 | E41: =+C41/'Beräkning TjP och Yarb'!$I$43 -> 0 | F41: 0 | H41: Totalt arbetande dagar | I41: =+I35-SUM(I36:I39) -> 210.56 | J41: =+I41/$I$35 -> 0.8067433
A42: Ja | B42: AGS Avtalsgruppförsäkring | C42: =IF(LOWER(A42)="ja",SUM($C$35:$C$37)*F42,0) -> 0 | D42: =+C42*12 -> 0 | E42: =+C42/'Beräkning TjP och Yarb'!$I$43 -> 0 | F42: 0 | H42: Arbetande dagar i snitt per månad | I42: =+I41/12 -> 17.546667
A43: Ja | B43: FPT Föräldrapenningtillägg | C43: =IF(LOWER(A43)="ja",SUM($C$35:$C$37)*F43,0) -> 0 | D43: =+C43*12 -> 0 | E43: =+C43/'Beräkning TjP och Yarb'!$I$43 -> 0 | F43: 0 | H43: Timmar i snitt per månad | I43: =+I42*8 -> 140.37333
A44: Ja | B44: TGL Tjänstegrupplivförsäkring | C44: =IF(LOWER(A44)="ja",SUM($C$35:$C$37)*F44,0) -> 49.857871 | D44: =+C44*12 -> 598.29445 | E44: =+C44/'Beräkning TjP och Yarb'!$I$43 -> 0.3551805 | F44: 0.001
A45: Ja | B45: TFATrygghetsförsäkring vid skada | C45: =IF(LOWER(A45)="ja",SUM($C$35:$C$37)*F45,0) -> 4.9857871 | D45: =+C45*12 -> 59.829445 | E45: =+C45/'Beräkning TjP och Yarb'!$I$43 -> 0.03551805 | F45: 0.0001 | H45: Kostnader | I45: Summa | J45: Diff mot dagslön
A46: Ja | B46: Premiebeft SAF-LO | C46: =IF(LOWER(A46)="ja",SUM($C$35:$C$37)*F46,0) -> 0 | D46: =+C46*12 -> 0 | E46: =+C46/'Beräkning TjP och Yarb'!$I$43 -> 0 | F46: 0 | H46: Dagslön (timlön enligt E35 * 8) | I46: =+'Beräkning TjP och Yarb'!E35*8 -> 2216.48 | J46: =+I46-$I$46 -> 0
A47: Ja | B47: Tjänstepension SAF-LO<7,5 ibb | C47: =IF(LOWER(A47)="ja",SUM($C$35:$C$37)*F47,0) -> 2193.7463 | D47: =+C47*12 -> 26324.956 | E47: =+C47/'Beräkning TjP och Yarb'!$I$43 -> 15.627942 | F47: 0.044 | H47: En semesterdags lön enl kollektivavtal | I47: =+K36/I36 -> 3008.2067 | J47: =+I47-$I$46 -> 791.72666
A48: Ja | B48: Tjänstepension SAF LO >7,5 ibb | C48: =IF(LOWER(A48)="ja",SUM($C$35:$C$37)*F48,0) -> 349.00509 | D48: =+C48*12 -> 4188.0611 | E48: =+C48/'Beräkning TjP och Yarb'!$I$43 -> 2.4862635 | F48: 0.007
A49: Ja | B49: TGL fortsättningsförsäkring | C49: =IF(LOWER(A49)="ja",SUM($C$35:$C$37)*F49,0) -> 24.928935 | D49: 277 | E49: =+C49/'Beräkning TjP och Yarb'!$I$43 -> 0.17759025 | F49: 0.0005
A50: Ja | B50: Xtra pensionsavs. Byggavtalet | C50: =IF(LOWER(A50)="ja",SUM($C$35:$C$37)*F50,0) -> 805.20461 | D50: =+C50*12 -> 9662.4553 | E50: =+C50/'Beräkning TjP och Yarb'!$I$43 -> 5.7361651 | F50: 0.01615
A51: Ja | B51: Särskilt tillägg bygg | C51: =IF(LOWER(A51)="ja",SUM($C$35:$C$37)*F51,0) -> 84.259801 | D51: =+C51*12 -> 1011.1176 | E51: =+C51/'Beräkning TjP och Yarb'!$I$43 -> 0.60025504 | F51: 0.00169
A52: Ja | B52: Premiebef extra pensionsavsättn | C52: =IF(LOWER(A52)="ja",SUM($C$35:$C$37)*F52,0) -> 42.37919 | D52: =+C52*12 -> 508.55028 | E52: =+C52/'Beräkning TjP och Yarb'!$I$43 -> 0.30190342 | F52: 0.00085
A53: Ja | B53: Löneskatt | C53: =IF(LOWER(A53)="ja",SUM($C$40:$C$52)*F53,0) -> 921.55762 | D53: =+C53*12 -> 11058.691 | E53: =+C53/'Beräkning TjP och Yarb'!$I$43 -> 6.5650477 | F53: =+C27 -> 0.2426
A54: Ja | B54: Sv näringsliv | C54: =+E54*'Beräkning TjP och Yarb'!$N$34 -> 0 | D54: =+C54*12 -> 0 | E54: =F54*E35 -> 0
B55: FORA & Svenskt näringsliv | C55: =SUM(C40:C54) -> 4720.2288 | D55: =SUM(D40:D54) -> 56620.598 | E55: =+C55/'Beräkning TjP och Yarb'!I43 -> 33.62625 | F55: =SUM(F40:F54) -> 0.31879
B56: Tot | C56: =+C55+C39 -> 70243.442 | E56: =+E55+E39 -> 500.40446
B58: Timprislista självkostnad tid
B59: Namn | C59: Roll | D59: Lön enl A12 alt A35 | E59: Timpris enligt mallen
A60: 1
A61: 2
A62: 3
A63: 4
A64: 5
A65: 6
A66: 7
A67: 8
A68: 9
A69: 10

Sheet Blad2

Sheet Blad3

Sheet Blad1
A3: Ja
A4: Nej
